BEGIN:VCALENDAR
VERSION:2.0
PRODID:-//wp-events-plugin.com//7.2.3.1//EN
TZID:Europe/Berlin
X-WR-TIMEZONE:Europe/Berlin
BEGIN:VEVENT
UID:181@pgnersingen.de
DTSTART;TZID=Europe/Berlin:20251018T153000
DTEND;TZID=Europe/Berlin:20251018T153000
DTSTAMP:20250923T091356Z
URL:https://pgnersingen.de/events/ehejubilaretreffen/
SUMMARY:EHEJUBILARETREFFEN
DESCRIPTION:Herzliche Einladung an alle Ehepaare der Pfarreiengemeinschaft\
 , die heuer ihren 25.\, 30.\, 40.\, 50. oder einen höheren Hochzeitstag b
 egehen durften oder dürfen\, zum Ehejubilaretreffen am Samstag\, 18. Okto
 ber:\n\n&nbsp\;\n\n15:30 Uhr   Kaffeestunde im Johanneshaus in Straß\n\
 nmit Ehejubilaresegen\n\n18:00 Uhr   Festgottesdienst\n\nin der Pfarrkir
 che St. Johann Baptist Straß\n\n&nbsp\;\n\nBitte melden Sie sich in Ihrem
  jeweiligen Pfarrbüro an.
ATTACH;FMTTYPE=image/jpeg:https://pgnersingen.de/wp-content/uploads/2024/1
 0/wedding-ring-897415_1920@hnbs.jpg
LOCATION:Johanneshaus Straß\, Ilgstraße 13  \, Nersingen\, OT Straß\, De
 utschland
X-APPLE-STRUCTURED-LOCATION;VALUE=URI;X-ADDRESS=Ilgstraße 13  \, Nersingen
 \, OT Straß\, Deutschland;X-APPLE-RADIUS=100;X-TITLE=Johanneshaus Straß:
 geo:0,0
END:VEVENT
BEGIN:VTIMEZONE
TZID:Europe/Berlin
X-LIC-LOCATION:Europe/Berlin
BEGIN:DAYLIGHT
DTSTART:20250330T030000
TZOFFSETFROM:+0100
TZOFFSETTO:+0200
TZNAME:CEST
END:DAYLIGHT
END:VTIMEZONE
END:VCALENDAR