BEGIN:VCALENDAR
VERSION:2.0
PRODID:-//wp-events-plugin.com//7.2.3.1//EN
TZID:Europe/Berlin
X-WR-TIMEZONE:Europe/Berlin
BEGIN:VEVENT
UID:199@pgnersingen.de
DTSTART;TZID=Europe/Berlin:20251115T090000
DTEND;TZID=Europe/Berlin:20251115T090000
DTSTAMP:20251013T085129Z
URL:https://pgnersingen.de/events/frauenfruehstueck-2/
SUMMARY:FRAUENFRÜHSTÜCK
DESCRIPTION:
ATTACH;FMTTYPE=image/jpeg:https://pgnersingen.de/wp-content/uploads/2025/1
 0/Frauenfruehstueck.jpg
LOCATION:Johanneshaus Straß\, Ilgstraße 13  \, Nersingen\, OT Straß\, De
 utschland
X-APPLE-STRUCTURED-LOCATION;VALUE=URI;X-ADDRESS=Ilgstraße 13  \, Nersingen
 \, OT Straß\, Deutschland;X-APPLE-RADIUS=100;X-TITLE=Johanneshaus Straß:
 geo:0,0
END:VEVENT
BEGIN:VTIMEZONE
TZID:Europe/Berlin
X-LIC-LOCATION:Europe/Berlin
BEGIN:STANDARD
DTSTART:20251026T020000
TZOFFSETFROM:+0200
TZOFFSETTO:+0100
TZNAME:CET
END:STANDARD
END:VTIMEZONE
END:VCALENDAR