BEGIN:VCALENDAR
VERSION:2.0
PRODID:-//wp-events-plugin.com//7.2.3.1//EN
TZID:Europe/Berlin
X-WR-TIMEZONE:Europe/Berlin
BEGIN:VEVENT
UID:310@pgnersingen.de
DTSTART;TZID=Europe/Berlin:20260511T180000
DTEND;TZID=Europe/Berlin:20260511T180000
DTSTAMP:20260421T140917Z
URL:https://pgnersingen.de/events/hl-messe-im-pfarrgarten-oberfahlheim-sta
 tt-bittgang-2/
SUMMARY:HL. MESSE IM PFARRGARTEN OBERFAHLHEIM STATT BITTGANG
DESCRIPTION:Wir laden herzlichst die Gläubigen aller drei Pfarrgemeinden z
 um gemeinsamen Bittgottesdienst unter freiem Himmel im Pfarrgarten Oberfah
 lheim am Montag\, 11. Mai\, 18:00 Uhr ein. Falls es regnet\, findet die hl
 . Messe in der Kirche statt.
ATTACH;FMTTYPE=image/jpeg:https://pgnersingen.de/wp-content/uploads/2025/0
 4/Bittgang1.jpg
LOCATION:Pfarrgarten\, Alte Landstaße 3\, Oberfahlfeim\, 89278\, Deutschla
 nd
X-APPLE-STRUCTURED-LOCATION;VALUE=URI;X-ADDRESS=Alte Landstaße 3\, Oberfah
 lfeim\, 89278\, Deutschland;X-APPLE-RADIUS=100;X-TITLE=Pfarrgarten:geo:0,0
END:VEVENT
BEGIN:VTIMEZONE
TZID:Europe/Berlin
X-LIC-LOCATION:Europe/Berlin
BEGIN:DAYLIGHT
DTSTART:20260329T030000
TZOFFSETFROM:+0100
TZOFFSETTO:+0200
TZNAME:CEST
END:DAYLIGHT
END:VTIMEZONE
END:VCALENDAR