BEGIN:VCALENDAR
VERSION:2.0
PRODID:-//wp-events-plugin.com//7.2.3.1//EN
TZID:Europe/Berlin
X-WR-TIMEZONE:Europe/Berlin
BEGIN:VEVENT
UID:305@pgnersingen.de
DTSTART;TZID=Europe/Berlin:20260503T180000
DTEND;TZID=Europe/Berlin:20260503T180000
DTSTAMP:20260420T174106Z
URL:https://pgnersingen.de/events/maiandachten-5/
SUMMARY:MAIANDACHT
DESCRIPTION:„Maria\, Maienkönigin\, wir kommen dich zu grüßen...“ 
 – Dies wollen wir im Marienmonat Mai wieder ganz bewusst tun. Herzliche 
 Einladung zu unseren Maiandachten:\nin Nersingen\, St. Ulrich\nSonntag\, 3
 . Mai 18:00 Uhr mit Dankandacht zur Erstkommunion\nin Leibi\, St. Leonhard
 \nMittwoch\, 6. Mai 18:00 Uhr gestaltet vom ehemaligen Frauenbund\nin Ober
 fahlheim\, St. Dionysius\nSonntag\, 10. Mai 18:00 Uhr mitgestaltet vom Kir
 chenchor Chorisma Dionysius\nin Straß\, St. Johann Baptist\nSonntag\, 24.
  Mai 18:00 Uhr 
ATTACH;FMTTYPE=image/jpeg:https://pgnersingen.de/wp-content/uploads/2025/0
 4/Andachten1.jpg
LOCATION:Pfarrkirche St. Ulrich\, Weißenhorner Straße 8\, Nersingen\, 892
 78\, Deutschland
X-APPLE-STRUCTURED-LOCATION;VALUE=URI;X-ADDRESS=Weißenhorner Straße 8\, N
 ersingen\, 89278\, Deutschland;X-APPLE-RADIUS=100;X-TITLE=Pfarrkirche St. 
 Ulrich:geo:0,0
END:VEVENT
BEGIN:VTIMEZONE
TZID:Europe/Berlin
X-LIC-LOCATION:Europe/Berlin
BEGIN:DAYLIGHT
DTSTART:20260329T030000
TZOFFSETFROM:+0100
TZOFFSETTO:+0200
TZNAME:CEST
END:DAYLIGHT
END:VTIMEZONE
END:VCALENDAR