BEGIN:VCALENDAR
VERSION:2.0
PRODID:-//wp-events-plugin.com//7.2.3.1//EN
TZID:Europe/Berlin
X-WR-TIMEZONE:Europe/Berlin
BEGIN:VEVENT
UID:314@pgnersingen.de
DTSTART;TZID=Europe/Berlin:20260508T160000
DTEND;TZID=Europe/Berlin:20260508T160000
DTSTAMP:20260421T145205Z
URL:https://pgnersingen.de/events/oekumenischer-kleinkindergottesdienst-3/
SUMMARY:ÖKUMENISCHER KLEINKINDERGOTTESDIENST
DESCRIPTION:Liebe Kinder\, Eltern und Großeltern!\nHerzliche Einladung\nzu
  unserem Kleinkindergottesdienst\nam Freitag\, den 8. Mai\,\num 16:00 Uhr\
 nim Pfarrheim St. Ulrich Nersingen\nDer "Mai" ist der Marienmonat\, an dem
  besonders die heilige Maria Mutter Gottes verehrt wird\, das möchten wir
  an unserem Gottesdienst auch tun.\nDafür darf jeder eine Blume mitbringe
 n!\nWir freuen uns auf viele "kleine" und "große" Besucher.\nEuer Kleinki
 go-Team
ATTACH;FMTTYPE=image/jpeg:https://pgnersingen.de/wp-content/uploads/2025/0
 5/Kleinkind5.jpg
LOCATION:Pfarrheim St. Ulrich Nersingen\, Rathausplatz 2\, Nersingen\, Deut
 schland
X-APPLE-STRUCTURED-LOCATION;VALUE=URI;X-ADDRESS=Rathausplatz 2\, Nersingen\
 , Deutschland;X-APPLE-RADIUS=100;X-TITLE=Pfarrheim St. Ulrich Nersingen:ge
 o:0,0
END:VEVENT
BEGIN:VTIMEZONE
TZID:Europe/Berlin
X-LIC-LOCATION:Europe/Berlin
BEGIN:DAYLIGHT
DTSTART:20260329T030000
TZOFFSETFROM:+0100
TZOFFSETTO:+0200
TZNAME:CEST
END:DAYLIGHT
END:VTIMEZONE
END:VCALENDAR