BEGIN:VCALENDAR
VERSION:2.0
PRODID:-//wp-events-plugin.com//7.2.3.1//EN
TZID:Europe/Berlin
X-WR-TIMEZONE:Europe/Berlin
BEGIN:VEVENT
UID:99@pgnersingen.de
DTSTART;TZID=Europe/Berlin:20250412T180000
DTEND;TZID=Europe/Berlin:20250412T180000
DTSTAMP:20250330T155636Z
URL:https://pgnersingen.de/events/palmsonntag/
SUMMARY:PALMSONNTAG
DESCRIPTION:Am Beginn des Festgottesdienstes stehen die Segnung der Palmzwe
 ige und die Palmprozession in die Pfarrkirche:\n\n&nbsp\;\n\nin Oberfahlhe
 im am Vorabend des Palmsonntags\, 12. April um 18:00 Uhr Palmweihe bei gut
 em Wetter an der Aussegnungshalle\, von dort Palmprozession in die Pfarrki
 rche\, dort Festgottesdienst\;\n\n&nbsp\;\n\nin Straß am Palmsonntag\, 13
 . April um 08:30 Uhr Palmweihe vor dem Ölberg\, von dort Palmprozession 
 über den Kirchplatz in die Pfarrkirche\, dort Festgottesdienst\;\n\n&nbsp
 \;\n\nin Nersingen am Palmsonntag\, 13. April\, um 10:00 Uhr Palmweihe auf
  dem Kirchplatz\, von dort Palmprozession in die Pfarrkirche\, dort Festgo
 ttesdienst\, musikalisch mitgestaltet von der Trachtenkapelle Nersingen-Le
 ibi.\n\n&nbsp\;
ATTACH;FMTTYPE=image/jpeg:https://pgnersingen.de/wp-content/uploads/2025/0
 3/Palmbuschen.jpg
LOCATION:Pfarrkirche St. Dionysius\, Oberfahlheim\, Oberfahlheim\, 89278\, 
 Deutschland
X-APPLE-STRUCTURED-LOCATION;VALUE=URI;X-ADDRESS=Oberfahlheim\, Oberfahlheim
 \, 89278\, Deutschland;X-APPLE-RADIUS=100;X-TITLE=Pfarrkirche St. Dionysiu
 s:geo:0,0
END:VEVENT
BEGIN:VTIMEZONE
TZID:Europe/Berlin
X-LIC-LOCATION:Europe/Berlin
BEGIN:DAYLIGHT
DTSTART:20250330T030000
TZOFFSETFROM:+0100
TZOFFSETTO:+0200
TZNAME:CEST
END:DAYLIGHT
END:VTIMEZONE
END:VCALENDAR